BEGIN:VCALENDAR
VERSION:2.0
PRODID:-//Catedral de Granada - ECPv6.15.20//NONSGML v1.0//EN
CALSCALE:GREGORIAN
METHOD:PUBLISH
X-WR-CALNAME:Catedral de Granada
X-ORIGINAL-URL:https://catedraldegranada.com
X-WR-CALDESC:Eventos para Catedral de Granada
REFRESH-INTERVAL;VALUE=DURATION:PT1H
X-Robots-Tag:noindex
X-PUBLISHED-TTL:PT1H
BEGIN:VTIMEZONE
TZID:Europe/Helsinki
BEGIN:DAYLIGHT
TZOFFSETFROM:+0200
TZOFFSETTO:+0300
TZNAME:EEST
DTSTART:20190331T010000
END:DAYLIGHT
BEGIN:STANDARD
TZOFFSETFROM:+0300
TZOFFSETTO:+0200
TZNAME:EET
DTSTART:20191027T010000
END:STANDARD
BEGIN:DAYLIGHT
TZOFFSETFROM:+0200
TZOFFSETTO:+0300
TZNAME:EEST
DTSTART:20200329T010000
END:DAYLIGHT
BEGIN:STANDARD
TZOFFSETFROM:+0300
TZOFFSETTO:+0200
TZNAME:EET
DTSTART:20201025T010000
END:STANDARD
BEGIN:DAYLIGHT
TZOFFSETFROM:+0200
TZOFFSETTO:+0300
TZNAME:EEST
DTSTART:20210328T010000
END:DAYLIGHT
BEGIN:STANDARD
TZOFFSETFROM:+0300
TZOFFSETTO:+0200
TZNAME:EET
DTSTART:20211031T010000
END:STANDARD
BEGIN:DAYLIGHT
TZOFFSETFROM:+0200
TZOFFSETTO:+0300
TZNAME:EEST
DTSTART:20220327T010000
END:DAYLIGHT
BEGIN:STANDARD
TZOFFSETFROM:+0300
TZOFFSETTO:+0200
TZNAME:EET
DTSTART:20221030T010000
END:STANDARD
BEGIN:DAYLIGHT
TZOFFSETFROM:+0200
TZOFFSETTO:+0300
TZNAME:EEST
DTSTART:20230326T010000
END:DAYLIGHT
BEGIN:STANDARD
TZOFFSETFROM:+0300
TZOFFSETTO:+0200
TZNAME:EET
DTSTART:20231029T010000
END:STANDARD
END:VTIMEZONE
BEGIN:VEVENT
DTSTART;TZID=Europe/Helsinki:20201102T213000
DTEND;TZID=Europe/Helsinki:20201102T213000
DTSTAMP:20260425T191754
CREATED:20201021T124310Z
LAST-MODIFIED:20201021T124310Z
UID:5056-1604352600-1604352600@catedraldegranada.com
SUMMARY:Concierto de conmemoración de los fieles difuntos
DESCRIPTION:
URL:https://catedraldegranada.com/evento/concierto-de-conmemoracion-de-los-fieles-difuntos/
END:VEVENT
BEGIN:VEVENT
DTSTART;VALUE=DATE:20220226
DTEND;VALUE=DATE:20220227
DTSTAMP:20260425T191754
CREATED:20220215T192440Z
LAST-MODIFIED:20220215T192440Z
UID:5351-1645833600-1645919999@catedraldegranada.com
SUMMARY:Beatificación Mártires Granadinos
DESCRIPTION:La Archidiócesis de Granada acogerá el 26 de febrero de 2022\, en la S.I Catedral\, la ceremonia de beatificación de 16 mártires del siglo XX en Granada\, que murieron perdonando a sus verdugos. Precisamente\, el lema de estas beatificaciones afirman esa vida entregada por amor a Dios\, por encima de su propia vida\, perdonando: “Tu Gracia vale más que la vida”.
URL:https://catedraldegranada.com/evento/beatificacion-martires-granadinos/
END:VEVENT
END:VCALENDAR